BEGIN:VCALENDAR
VERSION:2.0
PRODID:-//THD Veranstaltungen//th-deg.de//DE
CALSCALE:GREGORIAN
BEGIN:VEVENT
DTSTART:20260310T093000
DTEND:20260310T110000
LOCATION:I002
DTSTAMP:20260310T093000
SUMMARY:Workshop "Didaktik kompakt"
DESCRIPTION:Dieser Workshop vermittelt die Grundlagen der Lehrveranstaltungsplanung. Dazu gehört die Abstimmung von Lernzielen, Methodik und Prüfung um Studierenden einen zielgerichteten, transparenten und effektiven Lernprozess zu ermöglichen.<br />\n<br />\nZielgruppe: Neue Professorinnen und Professoren, Lehrpersonen der THD 
UID:7eae2620f1ccfe54fc5964048d83854d@th-deg.de
END:VEVENT
END:VCALENDAR