BEGIN:VCALENDAR
VERSION:2.0
PRODID:-//THD Veranstaltungen//th-deg.de//DE
CALSCALE:GREGORIAN
BEGIN:VEVENT
DTSTART:20260930T100000
DTEND:20261001T160000
LOCATION:THD, Campus Deggendorf
DTSTAMP:20260930T100000
SUMMARY:Quietschietage 2026
DESCRIPTION:<p>Wir möchten unseren Erstsemestern, liebevoll „Quietschies“ genannt, den perfekten Start ins Studium ermöglichen. Deshalb findet auch dieses Jahr wieder unsere Einführungsveranstaltung namens „Quietschietage“ vom 30.09. bis 01.10.2026 am Campus Deggendorf statt. Dazu laden wir alle unsere Erstsemester herzlich ein!<br />
<br />
Lerne die THD und deine Mitstudierende bereits vor Studienstart kennen und besuche studienrelevante Angebote sowie erste Einführungsveranstaltungen. Unser buntes Rahmenprogramm garantiert dir einen optimalen Studienstart mit jeder Menge Spaß.</p>

UID:d5ea2d9b49e2b7bafde74da6eff2d322@th-deg.de
END:VEVENT
END:VCALENDAR