BEGIN:VCALENDAR
VERSION:2.0
PRODID:-//THD Veranstaltungen//th-deg.de//DE
CALSCALE:GREGORIAN
BEGIN:VEVENT
DTSTART:20260506T180000
DTEND:20260506T190000
LOCATION:online
DTSTAMP:20260506T180000
SUMMARY:Infoabend Master Bevölkerungsschutz & Katastrophenmanagement (M.Sc.) - berufsbegleitend:
DESCRIPTION:Die wachsende Komplexität globaler Risiken wie Pandemien, Naturkatastrophen, Cyberangriffe oder Kriege erfordert hochqualifizierte Fachkräfte mit interdisziplinären Kompetenzen in der zivilen Koordination. Zukünftig werden sich KRITIS-Unternehmen, zivile Behörden und Verwaltungen oder Organisationen mit Sicherheitsaufgaben (BOS) verstärkt mit Themen im Bereich des komplexen Krisenprävention und -bewältigung, Disaster Recovery und Business Continuity Management (BCM) auseinandersetzen.<br />\n<br />\nIm Mittelpunkt des Studiums steht die Fähigkeit, Risiko-, Krisen-, Resilienz- und Business-Continuity-Managementsysteme auf Basis aktueller Normen und internationaler Rahmenwerke wie dem EU Civil Protection Mechanism, dem Sendai Framework oder ISO 22301 zu konzipieren, in Organisationen zu integrieren und kontinuierlich weiterzuentwickeln. <br />\nDas Highlight des Studiums ist die Planung und Umsetzung einer 48-Stunden Großlagenübung, in der das erlernte Wissen angewendet wird.<br />\n<br />\nDer Studiengang richtet sich an Fach- oder Führungskraft in der Sicherheitsbranche, im Krisenmanagement, in KRITIS-Unternehmen, in Behörden oder Organisationen mit Sicherheitsaufgaben (BOS), in Unternehmen mit eigenen BCM-Strukturen, in NGO´s sowie in zivilen Behörden und in Ministerien, die Ihre Kompetenzen im komplexen Krisenmanagement, Disaster Recovery und Business Continuity Management (BCM) stärken möchten.<br />\n
UID:fff93e129e1effb51d6ca6f4381ffd67@th-deg.de
END:VEVENT
END:VCALENDAR