BEGIN:VCALENDAR
VERSION:2.0
PRODID:-//THD Veranstaltungen//th-deg.de//DE
CALSCALE:GREGORIAN
BEGIN:VEVENT
DTSTART:20260505T090000
DTEND:20260505T100000
LOCATION:Glashaus
DTSTAMP:20260505T090000
SUMMARY:Das Ende der Unsichtbarkeit – Warum wir über anti-asiatischen Rassismus sprechen müssen
DESCRIPTION:Keynote<br />\nRassismus ist kein Randphänomen – er wirkt in Strukturen, im Alltag und im gesellschaftlichen Miteinander. Besonders anti-asiatischer Rassismus bleibt dabei häufig unsichtbar oder wird marginalisiert. <br />\nMit der Keynote „Das Ende der Unsichtbarkeit – Warum wir über anti-asiatischen Rassismus sprechen müssen“ laden wir Sie herzlich ein, sich mit diesem wichtigen Thema auseinanderzusetzen.<br />\n<br />\nDie Keynote beleuchtet Rassismus in seinen vielfältigen Erscheinungsformen und verbindet historische Hintergründe mit aktuellen gesellschaftlichen Dynamiken. Im Fokus stehen zentrale Fragen zu strukturellem und alltäglichem Rassismus, zu Mechanismen von Ausgrenzung sowie zu deren Auswirkungen auf Individuen und Gesellschaft. Ziel ist es, ein Verständnis rassistischer Strukturen zu fördern und Denkanstöße für einen reflektierten, verantwortungsvollen Umgang im universitären wie auch im gesellschaftlichen Kontext zu geben.<br />\n<br />\nReferentin: Hami Nguyen<br />\n<br />\nHami Nguyen wurde 1989 in Vietnam geboren und floh 1991 gemeinsam mit ihrer Mutter nach Deutschland. Ihr Vater arbeitete zuvor als Vertragsarbeiter in der DDR. Sie studierte Volkswirtschaftslehre, Soziologie und Politikwissenschaften in Halle (Saale) und Luzern.<br />\n<br />\nHeute leitet Hami Nguyen in der Bildungsstätte Anne Frank das Projekt „Hidden Codes“, das Jugendliche dabei unterstützt, rechtsextreme und islamistische Radikalisierung im Netz zu erkennen und darauf zu reagieren. Darüber hinaus engagiert sie sich als Aktivistin für eine gerechtere Gesellschaft und erreicht unter dem Namen @hamidala_ viele Menschen auf Instagram.  
UID:d642ac66cdf59846c593fabf441795cc@th-deg.de
END:VEVENT
END:VCALENDAR