BEGIN:VCALENDAR
VERSION:2.0
PRODID:-//THD Veranstaltungen//th-deg.de//DE
CALSCALE:GREGORIAN
BEGIN:VEVENT
DTSTART:20260721T100000
DTEND:20260721T123000
LOCATION:Glashaus
DTSTAMP:20260721T100000
SUMMARY:Abschluss Campus Connect: China
DESCRIPTION:
UID:12bd371201123e5a379bce22174707a6@th-deg.de
END:VEVENT
END:VCALENDAR