BEGIN:VCALENDAR
VERSION:2.0
PRODID:-//THD Veranstaltungen//th-deg.de//DE
CALSCALE:GREGORIAN
BEGIN:VEVENT
DTSTART:20260803T180000
DTEND:20260803T183000
LOCATION:online
DTSTAMP:20260803T180000
SUMMARY:Orientierungssemester an der THD - Onlineinfo
DESCRIPTION:Du hast dein (Fach-)Abi in der Tasche und weißt noch nicht, welcher Studiengang dir liegt? Wie wäre es mit einem Orientierungssemester? Alle Infos dazu bekommst du heute.
UID:a1f53dd6013d2e17346ea26a9c953a82@th-deg.de
END:VEVENT
END:VCALENDAR