BEGIN:VCALENDAR
VERSION:2.0
PRODID:-//THD Veranstaltungen//th-deg.de//DE
CALSCALE:GREGORIAN
BEGIN:VEVENT
DTSTART:20260424T093000
DTEND:20260424T160000
LOCATION:München
DTSTAMP:20260424T093000
SUMMARY:Master and More - München
DESCRIPTION:<p>Wir freuen uns, dir auf der Messe "Master and More" unsere moderne Hochschule und deren Master Studiengänge vorstellen zu dürfen!</p><br />\n
UID:cae58b00d4096e25c9656ca57c00f8a6@th-deg.de
END:VEVENT
END:VCALENDAR